Package: rGREAT Version: 2.6.0 Command: chmod a+r rGREAT -R && F:\biocbuild\bbs-3.19-bioc\R\bin\R.exe CMD build --keep-empty-dirs --no-resave-data rGREAT StartedAt: 2024-06-26 21:22:39 -0400 (Wed, 26 Jun 2024) EndedAt: 2024-06-26 21:23:55 -0400 (Wed, 26 Jun 2024) EllapsedTime: 75.9 seconds RetCode: 0 Status: OK PackageFile: rGREAT_2.6.0.tar.gz PackageFileSize: 2.754 MiB