Package: rGREAT Version: 2.6.0 Command: rm -rf rGREAT.buildbin-libdir && mkdir rGREAT.buildbin-libdir && E:\biocbuild\bbs-3.19-bioc\R\bin\R.exe CMD INSTALL --build --library=rGREAT.buildbin-libdir rGREAT_2.6.0.tar.gz StartedAt: 2024-10-17 08:29:02 -0400 (Thu, 17 Oct 2024) EndedAt: 2024-10-17 08:30:26 -0400 (Thu, 17 Oct 2024) EllapsedTime: 84.5 seconds RetCode: 0 Status: OK PackageFile: rGREAT_2.6.0.zip PackageFileSize: 3.731 MiB