Package: rGREAT Version: 2.6.0 Command: chmod a+r rGREAT -R && E:\biocbuild\bbs-3.19-bioc\R\bin\R.exe CMD build --keep-empty-dirs --no-resave-data rGREAT StartedAt: 2024-10-16 21:30:02 -0400 (Wed, 16 Oct 2024) EndedAt: 2024-10-16 21:31:27 -0400 (Wed, 16 Oct 2024) EllapsedTime: 85.2 seconds RetCode: 0 Status: OK PackageFile: rGREAT_2.6.0.tar.gz PackageFileSize: 2.754 MiB