Package: rTRM Version: 1.42.0 Command: rm -rf rTRM.buildbin-libdir && mkdir rTRM.buildbin-libdir && /Users/biocbuild/BBS/utils/build-universal.sh rTRM_1.42.0.tar.gz /Library/Frameworks/R.framework/Resources/bin/R rTRM.buildbin-libdir StartedAt: 2024-10-18 20:29:21 -0400 (Fri, 18 Oct 2024) EndedAt: 2024-10-18 20:29:45 -0400 (Fri, 18 Oct 2024) EllapsedTime: 24.0 seconds RetCode: 0 Status: OK PackageFile: rTRM_1.42.0.tgz PackageFileSize: 3.507 MiB