Package: rTRM Version: 1.42.0 Command: /home/biocbuild/bbs-3.19-bioc/R/bin/R CMD build --keep-empty-dirs --no-resave-data rTRM StartedAt: 2024-10-16 20:34:46 -0400 (Wed, 16 Oct 2024) EndedAt: 2024-10-16 20:35:32 -0400 (Wed, 16 Oct 2024) EllapsedTime: 46.1 seconds RetCode: 0 Status: OK PackageFile: rTRM_1.42.0.tar.gz PackageFileSize: 3.464 MiB