Package: rTRM Version: 1.42.0 Command: rm -rf rTRM.buildbin-libdir && mkdir rTRM.buildbin-libdir && E:\biocbuild\bbs-3.19-bioc\R\bin\R.exe CMD INSTALL --build --library=rTRM.buildbin-libdir rTRM_1.42.0.tar.gz StartedAt: 2024-10-17 08:32:47 -0400 (Thu, 17 Oct 2024) EndedAt: 2024-10-17 08:33:17 -0400 (Thu, 17 Oct 2024) EllapsedTime: 30.4 seconds RetCode: 0 Status: OK PackageFile: rTRM_1.42.0.zip PackageFileSize: 3.122 MiB