Package: rWikiPathways Version: 1.24.0 Command: rm -rf rWikiPathways.buildbin-libdir && mkdir rWikiPathways.buildbin-libdir && /Users/biocbuild/BBS/utils/build-universal.sh rWikiPathways_1.24.0.tar.gz /Library/Frameworks/R.framework/Resources/bin/R rWikiPathways.buildbin-libdir StartedAt: 2024-10-15 20:03:56 -0400 (Tue, 15 Oct 2024) EndedAt: 2024-10-15 20:04:06 -0400 (Tue, 15 Oct 2024) EllapsedTime: 10.3 seconds RetCode: 0 Status: OK PackageFile: rWikiPathways_1.24.0.tgz PackageFileSize: 2.87 MiB