Package: rWikiPathways Version: 1.24.0 Command: rm -rf rWikiPathways.buildbin-libdir && mkdir rWikiPathways.buildbin-libdir && /Users/biocbuild/BBS/utils/build-universal.sh rWikiPathways_1.24.0.tar.gz /Library/Frameworks/R.framework/Resources/bin/R rWikiPathways.buildbin-libdir StartedAt: 2024-06-11 13:00:07 -0400 (Tue, 11 Jun 2024) EndedAt: 2024-06-11 13:00:24 -0400 (Tue, 11 Jun 2024) EllapsedTime: 16.7 seconds RetCode: 0 Status: OK PackageFile: rWikiPathways_1.24.0.tgz PackageFileSize: 2.869 MiB