Package: rWikiPathways Version: 1.24.0 Command: /home/biocbuild/R/R-beta-2024-04-15_r86425/bin/R CMD check --install=check:rWikiPathways.install-out.txt --library=/home/biocbuild/R/R-beta-2024-04-15_r86425/site-library --no-vignettes --timings rWikiPathways_1.24.0.tar.gz StartedAt: 2024-05-09 11:29:34 -0000 (Thu, 09 May 2024) EndedAt: 2024-05-09 11:33:13 -0000 (Thu, 09 May 2024) EllapsedTime: 218.7 seconds RetCode: 0 Status: OK CheckDir: rWikiPathways.Rcheck Warnings: 0