Package: rWikiPathways Version: 1.24.0 Command: /home/biocbuild/R/R-beta-2024-04-15_r86425/bin/R CMD INSTALL rWikiPathways StartedAt: 2024-05-08 20:09:27 -0000 (Wed, 08 May 2024) EndedAt: 2024-05-08 20:09:49 -0000 (Wed, 08 May 2024) EllapsedTime: 21.3 seconds RetCode: 0 Status: OK