Package: rWikiPathways Version: 1.24.0 Command: /Library/Frameworks/R.framework/Resources/bin/R CMD build --keep-empty-dirs --no-resave-data rWikiPathways StartedAt: 2024-10-16 22:49:50 -0400 (Wed, 16 Oct 2024) EndedAt: 2024-10-16 22:50:27 -0400 (Wed, 16 Oct 2024) EllapsedTime: 37.3 seconds RetCode: 0 Status: OK PackageFile: rWikiPathways_1.24.0.tar.gz PackageFileSize: 10.38 MiB