Package: rWikiPathways Version: 1.24.0 Command: rm -rf rWikiPathways.buildbin-libdir && mkdir rWikiPathways.buildbin-libdir && F:\biocbuild\bbs-3.19-bioc\R\bin\R.exe CMD INSTALL --build --library=rWikiPathways.buildbin-libdir rWikiPathways_1.24.0.tar.gz StartedAt: 2024-06-27 08:50:52 -0400 (Thu, 27 Jun 2024) EndedAt: 2024-06-27 08:51:10 -0400 (Thu, 27 Jun 2024) EllapsedTime: 18.2 seconds RetCode: 0 Status: OK PackageFile: rWikiPathways_1.24.0.zip PackageFileSize: 2.87 MiB