Package: rWikiPathways Version: 1.24.0 Command: chmod a+r rWikiPathways -R && E:\biocbuild\bbs-3.19-bioc\R\bin\R.exe CMD build --keep-empty-dirs --no-resave-data rWikiPathways StartedAt: 2024-10-16 21:40:33 -0400 (Wed, 16 Oct 2024) EndedAt: 2024-10-16 21:41:27 -0400 (Wed, 16 Oct 2024) EllapsedTime: 54.7 seconds RetCode: 0 Status: OK PackageFile: rWikiPathways_1.24.0.tar.gz PackageFileSize: 10.38 MiB