Package: raer Version: 1.2.0 Command: /Library/Frameworks/R.framework/Resources/bin/R CMD build --keep-empty-dirs --no-resave-data raer StartedAt: 2024-06-10 03:01:45 -0400 (Mon, 10 Jun 2024) EndedAt: 2024-06-10 03:13:20 -0400 (Mon, 10 Jun 2024) EllapsedTime: 695.4 seconds RetCode: 0 Status: OK PackageFile: raer_1.2.0.tar.gz PackageFileSize: 2.057 MiB