Package: raer Version: 1.2.0 Command: /home/biocbuild/R/R-beta-2024-04-15_r86425/bin/R CMD build --keep-empty-dirs --no-resave-data raer StartedAt: 2024-05-09 02:46:43 -0000 (Thu, 09 May 2024) EndedAt: 2024-05-09 02:58:23 -0000 (Thu, 09 May 2024) EllapsedTime: 699.9 seconds RetCode: 0 Status: OK PackageFile: raer_1.2.0.tar.gz PackageFileSize: 1.162 MiB