############################################################################## ############################################################################## ### ### Running command: ### ### chmod a+r raer -R && F:\biocbuild\bbs-3.19-bioc\R\bin\R.exe CMD build --keep-empty-dirs --no-resave-data raer ### ############################################################################## ############################################################################## * checking for file 'raer/DESCRIPTION' ... OK * preparing 'raer': * checking DESCRIPTION meta-information ... OK * cleaning src * installing the package to build vignettes * creating vignettes ...