Package: raer Version: 1.2.0 Command: chmod a+r raer -R && F:\biocbuild\bbs-3.19-bioc\R\bin\R.exe CMD build --keep-empty-dirs --no-resave-data raer StartedAt: 2024-06-26 21:12:55 -0400 (Wed, 26 Jun 2024) EndedAt: 2024-06-26 21:52:56 -0400 (Wed, 26 Jun 2024) EllapsedTime: 2401.0 seconds RetCode: None Status: TIMEOUT PackageFile: None PackageFileSize: NA