Package: raer Version: 1.2.0 Command: F:\biocbuild\bbs-3.19-bioc\R\bin\R.exe CMD check --no-multiarch --install=check:raer.install-out.txt --library=F:\biocbuild\bbs-3.19-bioc\R\library --no-vignettes --timings raer_1.2.0.tar.gz StartedAt: 2024-06-24 09:29:40 -0400 (Mon, 24 Jun 2024) EndedAt: 2024-06-24 09:44:49 -0400 (Mon, 24 Jun 2024) EllapsedTime: 909.2 seconds RetCode: 0 Status: OK CheckDir: raer.Rcheck Warnings: 0