Package: raer Version: 1.2.0 Command: E:\biocbuild\bbs-3.19-bioc\R\bin\R.exe CMD INSTALL raer StartedAt: 2024-10-16 16:30:31 -0400 (Wed, 16 Oct 2024) EndedAt: 2024-10-16 16:31:42 -0400 (Wed, 16 Oct 2024) EllapsedTime: 70.7 seconds RetCode: 0 Status: OK