Package: ramr Version: 1.12.0 Command: /Library/Frameworks/R.framework/Resources/bin/R CMD build --keep-empty-dirs --no-resave-data ramr StartedAt: 2024-10-17 07:07:19 -0400 (Thu, 17 Oct 2024) EndedAt: 2024-10-17 07:09:05 -0400 (Thu, 17 Oct 2024) EllapsedTime: 105.7 seconds RetCode: 0 Status: OK PackageFile: ramr_1.12.0.tar.gz PackageFileSize: 2.668 MiB