Package: ramr Version: 1.12.0 Command: rm -rf ramr.buildbin-libdir && mkdir ramr.buildbin-libdir && /Users/biocbuild/BBS/utils/build-universal.sh ramr_1.12.0.tar.gz /Library/Frameworks/R.framework/Resources/bin/R ramr.buildbin-libdir StartedAt: 2024-06-11 12:41:09 -0400 (Tue, 11 Jun 2024) EndedAt: 2024-06-11 12:41:36 -0400 (Tue, 11 Jun 2024) EllapsedTime: 26.8 seconds RetCode: 0 Status: OK PackageFile: ramr_1.12.0.tgz PackageFileSize: 2.7 MiB