Package: ramr Version: 1.12.0 Command: rm -rf ramr.buildbin-libdir && mkdir ramr.buildbin-libdir && /Users/biocbuild/BBS/utils/build-universal.sh ramr_1.12.0.tar.gz /Library/Frameworks/R.framework/Resources/bin/R ramr.buildbin-libdir StartedAt: 2024-10-17 16:55:43 -0400 (Thu, 17 Oct 2024) EndedAt: 2024-10-17 16:56:15 -0400 (Thu, 17 Oct 2024) EllapsedTime: 32.0 seconds RetCode: 0 Status: OK PackageFile: ramr_1.12.0.tgz PackageFileSize: 2.698 MiB