Package: ramr Version: 1.12.0 Command: /Library/Frameworks/R.framework/Resources/bin/R CMD build --keep-empty-dirs --no-resave-data ramr StartedAt: 2024-10-16 22:22:06 -0400 (Wed, 16 Oct 2024) EndedAt: 2024-10-16 22:25:33 -0400 (Wed, 16 Oct 2024) EllapsedTime: 206.8 seconds RetCode: 0 Status: OK PackageFile: ramr_1.12.0.tar.gz PackageFileSize: 2.666 MiB