Package: ramr Version: 1.12.0 Command: /home/biocbuild/bbs-3.19-bioc/R/bin/R CMD build --keep-empty-dirs --no-resave-data ramr StartedAt: 2024-10-16 20:18:23 -0400 (Wed, 16 Oct 2024) EndedAt: 2024-10-16 20:19:44 -0400 (Wed, 16 Oct 2024) EllapsedTime: 81.2 seconds RetCode: 0 Status: OK PackageFile: ramr_1.12.0.tar.gz PackageFileSize: 2.528 MiB