Package: ramr Version: 1.12.0 Command: /home/biocbuild/bbs-3.19-bioc/R/bin/R CMD INSTALL ramr StartedAt: 2024-10-16 16:12:54 -0400 (Wed, 16 Oct 2024) EndedAt: 2024-10-16 16:13:06 -0400 (Wed, 16 Oct 2024) EllapsedTime: 12.3 seconds RetCode: 0 Status: OK