Package: randPack Version: 1.50.0 Command: /Library/Frameworks/R.framework/Resources/bin/R CMD check --install=check:randPack.install-out.txt --library=/Library/Frameworks/R.framework/Resources/library --no-vignettes --timings randPack_1.50.0.tar.gz StartedAt: 2024-06-11 02:23:24 -0400 (Tue, 11 Jun 2024) EndedAt: 2024-06-11 02:24:26 -0400 (Tue, 11 Jun 2024) EllapsedTime: 62.1 seconds RetCode: 0 Status: OK CheckDir: randPack.Rcheck Warnings: 0