Package: randPack Version: 1.50.0 Command: rm -rf randPack.buildbin-libdir && mkdir randPack.buildbin-libdir && /Users/biocbuild/BBS/utils/build-universal.sh randPack_1.50.0.tar.gz /Library/Frameworks/R.framework/Resources/bin/R randPack.buildbin-libdir StartedAt: 2024-06-10 00:34:02 -0400 (Mon, 10 Jun 2024) EndedAt: 2024-06-10 00:34:10 -0400 (Mon, 10 Jun 2024) EllapsedTime: 7.9 seconds RetCode: 0 Status: OK PackageFile: randPack_1.50.0.tgz PackageFileSize: 462.6 KiB