Package: randPack Version: 1.50.0 Command: /Library/Frameworks/R.framework/Resources/bin/R CMD build --keep-empty-dirs --no-resave-data randPack StartedAt: 2024-10-16 22:22:57 -0400 (Wed, 16 Oct 2024) EndedAt: 2024-10-16 22:23:20 -0400 (Wed, 16 Oct 2024) EllapsedTime: 23.1 seconds RetCode: 0 Status: OK PackageFile: randPack_1.50.0.tar.gz PackageFileSize: 253.4 KiB