Package: randPack Version: 1.50.0 Command: /Library/Frameworks/R.framework/Resources/bin/R CMD check --install=check:randPack.install-out.txt --library=/Library/Frameworks/R.framework/Resources/library --no-vignettes --timings randPack_1.50.0.tar.gz StartedAt: 2024-10-17 11:29:18 -0400 (Thu, 17 Oct 2024) EndedAt: 2024-10-17 11:30:22 -0400 (Thu, 17 Oct 2024) EllapsedTime: 64.4 seconds RetCode: 0 Status: OK CheckDir: randPack.Rcheck Warnings: 0