Package: randPack Version: 1.50.0 Command: rm -rf randPack.buildbin-libdir && mkdir randPack.buildbin-libdir && F:\biocbuild\bbs-3.19-bioc\R\bin\R.exe CMD INSTALL --build --library=randPack.buildbin-libdir randPack_1.50.0.tar.gz StartedAt: 2024-06-27 08:44:20 -0400 (Thu, 27 Jun 2024) EndedAt: 2024-06-27 08:44:30 -0400 (Thu, 27 Jun 2024) EllapsedTime: 10.1 seconds RetCode: 0 Status: OK PackageFile: randPack_1.50.0.zip PackageFileSize: 354.9 KiB