Package: randPack Version: 1.50.0 Command: rm -rf randPack.buildbin-libdir && mkdir randPack.buildbin-libdir && E:\biocbuild\bbs-3.19-bioc\R\bin\R.exe CMD INSTALL --build --library=randPack.buildbin-libdir randPack_1.50.0.tar.gz StartedAt: 2024-10-17 08:25:17 -0400 (Thu, 17 Oct 2024) EndedAt: 2024-10-17 08:25:42 -0400 (Thu, 17 Oct 2024) EllapsedTime: 24.8 seconds RetCode: 0 Status: OK PackageFile: randPack_1.50.0.zip PackageFileSize: 356 KiB