Package: randPack Version: 1.50.0 Command: E:\biocbuild\bbs-3.19-bioc\R\bin\R.exe CMD INSTALL randPack StartedAt: 2024-10-16 16:01:35 -0400 (Wed, 16 Oct 2024) EndedAt: 2024-10-16 16:01:53 -0400 (Wed, 16 Oct 2024) EllapsedTime: 17.7 seconds RetCode: 0 Status: OK