Package: randRotation Version: 1.16.0 Command: /Library/Frameworks/R.framework/Resources/bin/R CMD check --install=check:randRotation.install-out.txt --library=/Library/Frameworks/R.framework/Resources/library --no-vignettes --timings randRotation_1.16.0.tar.gz StartedAt: 2024-10-18 08:43:49 -0400 (Fri, 18 Oct 2024) EndedAt: 2024-10-18 08:44:54 -0400 (Fri, 18 Oct 2024) EllapsedTime: 65.0 seconds RetCode: 1 Status: ERROR CheckDir: randRotation.Rcheck Warnings: NA