Package: randRotation Version: 1.16.0 Command: /Library/Frameworks/R.framework/Resources/bin/R CMD build --keep-empty-dirs --no-resave-data randRotation StartedAt: 2024-06-10 03:06:15 -0400 (Mon, 10 Jun 2024) EndedAt: 2024-06-10 03:09:37 -0400 (Mon, 10 Jun 2024) EllapsedTime: 201.8 seconds RetCode: 1 Status: ERROR PackageFile: None PackageFileSize: NA