Package: randRotation Version: 1.16.0 Command: /home/biocbuild/R/R-beta-2024-04-15_r86425/bin/R CMD check --install=check:randRotation.install-out.txt --library=/home/biocbuild/R/R-beta-2024-04-15_r86425/site-library --no-vignettes --timings randRotation_1.16.0.tar.gz StartedAt: 2024-05-09 10:57:59 -0000 (Thu, 09 May 2024) EndedAt: 2024-05-09 10:58:52 -0000 (Thu, 09 May 2024) EllapsedTime: 53.1 seconds RetCode: 1 Status: ERROR CheckDir: randRotation.Rcheck Warnings: NA