Package: randRotation Version: 1.16.0 Command: /Library/Frameworks/R.framework/Resources/bin/R CMD build --keep-empty-dirs --no-resave-data randRotation StartedAt: 2024-06-09 17:50:16 -0400 (Sun, 09 Jun 2024) EndedAt: 2024-06-09 17:52:23 -0400 (Sun, 09 Jun 2024) EllapsedTime: 127.3 seconds RetCode: 0 Status: OK PackageFile: randRotation_1.16.0.tar.gz PackageFileSize: 974.8 KiB