Package: randRotation Version: 1.16.0 Command: rm -rf randRotation.buildbin-libdir && mkdir randRotation.buildbin-libdir && E:\biocbuild\bbs-3.19-bioc\R\bin\R.exe CMD INSTALL --build --library=randRotation.buildbin-libdir randRotation_1.16.0.tar.gz StartedAt: 2024-10-17 08:25:21 -0400 (Thu, 17 Oct 2024) EndedAt: 2024-10-17 08:25:44 -0400 (Thu, 17 Oct 2024) EllapsedTime: 22.6 seconds RetCode: 0 Status: OK PackageFile: randRotation_1.16.0.zip PackageFileSize: 1.128 MiB