Package: randRotation Version: 1.16.0 Command: E:\biocbuild\bbs-3.19-bioc\R\bin\R.exe CMD INSTALL randRotation StartedAt: 2024-10-16 16:04:55 -0400 (Wed, 16 Oct 2024) EndedAt: 2024-10-16 16:05:22 -0400 (Wed, 16 Oct 2024) EllapsedTime: 26.5 seconds RetCode: 0 Status: OK