Package: rbsurv Version: 2.62.0 Maintainer: Soo-heang Eo MaintainerEmail: hanansh at korea.ac.kr git_url: https://git.bioconductor.org/packages/rbsurv git_branch: RELEASE_3_19 git_last_commit: 1ba6b27 git_last_commit_date: 2024-04-30 10:16:49 -0400 (Tue, 30 Apr 2024)