Package: rbsurv Version: 2.62.0 Command: /Library/Frameworks/R.framework/Resources/bin/R CMD INSTALL rbsurv StartedAt: 2024-10-16 18:00:03 -0400 (Wed, 16 Oct 2024) EndedAt: 2024-10-16 18:00:11 -0400 (Wed, 16 Oct 2024) EllapsedTime: 8.1 seconds RetCode: 0 Status: OK