Package: rbsurv Version: 2.62.0 Command: /Library/Frameworks/R.framework/Resources/bin/R CMD check --install=check:rbsurv.install-out.txt --library=/Library/Frameworks/R.framework/Resources/library --no-vignettes --timings rbsurv_2.62.0.tar.gz StartedAt: 2024-06-11 02:29:04 -0400 (Tue, 11 Jun 2024) EndedAt: 2024-06-11 02:30:33 -0400 (Tue, 11 Jun 2024) EllapsedTime: 88.9 seconds RetCode: 0 Status: OK CheckDir: rbsurv.Rcheck Warnings: 0