Package: rbsurv Version: 2.62.0 Command: rm -rf rbsurv.buildbin-libdir && mkdir rbsurv.buildbin-libdir && /Users/biocbuild/BBS/utils/build-universal.sh rbsurv_2.62.0.tar.gz /Library/Frameworks/R.framework/Resources/bin/R rbsurv.buildbin-libdir StartedAt: 2024-06-10 00:34:20 -0400 (Mon, 10 Jun 2024) EndedAt: 2024-06-10 00:34:31 -0400 (Mon, 10 Jun 2024) EllapsedTime: 11.2 seconds RetCode: 0 Status: OK PackageFile: rbsurv_2.62.0.tgz PackageFileSize: 392.4 KiB