Package: rbsurv Version: 2.62.0 Command: /Library/Frameworks/R.framework/Resources/bin/R CMD check --install=check:rbsurv.install-out.txt --library=/Library/Frameworks/R.framework/Resources/library --no-vignettes --timings rbsurv_2.62.0.tar.gz StartedAt: 2024-10-17 11:32:24 -0400 (Thu, 17 Oct 2024) EndedAt: 2024-10-17 11:34:37 -0400 (Thu, 17 Oct 2024) EllapsedTime: 133.0 seconds RetCode: 0 Status: OK CheckDir: rbsurv.Rcheck Warnings: 0