Package: rbsurv Version: 2.62.0 Command: rm -rf rbsurv.buildbin-libdir && mkdir rbsurv.buildbin-libdir && F:\biocbuild\bbs-3.19-bioc\R\bin\R.exe CMD INSTALL --build --library=rbsurv.buildbin-libdir rbsurv_2.62.0.tar.gz StartedAt: 2024-06-27 08:44:56 -0400 (Thu, 27 Jun 2024) EndedAt: 2024-06-27 08:45:13 -0400 (Thu, 27 Jun 2024) EllapsedTime: 17.1 seconds RetCode: 0 Status: OK PackageFile: rbsurv_2.62.0.zip PackageFileSize: 284.9 KiB