Package: rbsurv Version: 2.62.0 Command: rm -rf rbsurv.buildbin-libdir && mkdir rbsurv.buildbin-libdir && E:\biocbuild\bbs-3.19-bioc\R\bin\R.exe CMD INSTALL --build --library=rbsurv.buildbin-libdir rbsurv_2.62.0.tar.gz StartedAt: 2024-10-17 08:26:05 -0400 (Thu, 17 Oct 2024) EndedAt: 2024-10-17 08:26:15 -0400 (Thu, 17 Oct 2024) EllapsedTime: 10.1 seconds RetCode: 0 Status: OK PackageFile: rbsurv_2.62.0.zip PackageFileSize: 286.1 KiB