Package: rcellminer Version: 2.26.0 Command: rm -rf rcellminer.buildbin-libdir && mkdir rcellminer.buildbin-libdir && F:\biocbuild\bbs-3.19-bioc\R\bin\R.exe CMD INSTALL --build --library=rcellminer.buildbin-libdir rcellminer_2.26.0.tar.gz StartedAt: 2024-06-27 08:45:02 -0400 (Thu, 27 Jun 2024) EndedAt: 2024-06-27 08:45:20 -0400 (Thu, 27 Jun 2024) EllapsedTime: 17.8 seconds RetCode: 0 Status: OK PackageFile: rcellminer_2.26.0.zip PackageFileSize: 971.6 KiB