Package: rcellminer Version: 2.26.0 Command: chmod a+r rcellminer -R && F:\biocbuild\bbs-3.19-bioc\R\bin\R.exe CMD build --keep-empty-dirs --no-resave-data rcellminer StartedAt: 2024-06-26 21:17:10 -0400 (Wed, 26 Jun 2024) EndedAt: 2024-06-26 21:20:20 -0400 (Wed, 26 Jun 2024) EllapsedTime: 189.6 seconds RetCode: 0 Status: OK PackageFile: rcellminer_2.26.0.tar.gz PackageFileSize: 706.2 KiB