Package: rebook Version: 1.14.0 Command: rm -rf rebook.buildbin-libdir && mkdir rebook.buildbin-libdir && /Users/biocbuild/BBS/utils/build-universal.sh rebook_1.14.0.tar.gz /Library/Frameworks/R.framework/Resources/bin/R rebook.buildbin-libdir StartedAt: 2024-10-18 20:11:38 -0400 (Fri, 18 Oct 2024) EndedAt: 2024-10-18 20:11:47 -0400 (Fri, 18 Oct 2024) EllapsedTime: 9.1 seconds RetCode: 0 Status: OK PackageFile: rebook_1.14.0.tgz PackageFileSize: 327.3 KiB