Package: rebook Version: 1.14.0 Command: /Library/Frameworks/R.framework/Resources/bin/R CMD check --install=check:rebook.install-out.txt --library=/Library/Frameworks/R.framework/Resources/library --no-vignettes --timings rebook_1.14.0.tar.gz StartedAt: 2024-10-18 08:58:53 -0400 (Fri, 18 Oct 2024) EndedAt: 2024-10-18 09:01:25 -0400 (Fri, 18 Oct 2024) EllapsedTime: 152.7 seconds RetCode: 0 Status: WARNINGS CheckDir: rebook.Rcheck Warnings: 2