Package: rebook Version: 1.14.0 Command: /Library/Frameworks/R.framework/Resources/bin/R CMD check --install=check:rebook.install-out.txt --library=/Library/Frameworks/R.framework/Resources/library --no-vignettes --timings rebook_1.14.0.tar.gz StartedAt: 2024-06-11 02:36:09 -0400 (Tue, 11 Jun 2024) EndedAt: 2024-06-11 02:41:07 -0400 (Tue, 11 Jun 2024) EllapsedTime: 298.1 seconds RetCode: 0 Status: WARNINGS CheckDir: rebook.Rcheck Warnings: 2